BEGIN:VCALENDAR
VERSION:2.0
PRODID:-//Anchor Covenant Church - ECPv6.15.20//NONSGML v1.0//EN
CALSCALE:GREGORIAN
METHOD:PUBLISH
X-WR-CALNAME:Anchor Covenant Church
X-ORIGINAL-URL:https://anchorcovenant.org
X-WR-CALDESC:Events for Anchor Covenant Church
REFRESH-INTERVAL;VALUE=DURATION:PT1H
X-Robots-Tag:noindex
X-PUBLISHED-TTL:PT1H
BEGIN:VTIMEZONE
TZID:UTC
BEGIN:STANDARD
TZOFFSETFROM:+0000
TZOFFSETTO:+0000
TZNAME:UTC
DTSTART:20240101T000000
END:STANDARD
END:VTIMEZONE
BEGIN:VEVENT
DTSTART;TZID=UTC:20250521T180000
DTEND;TZID=UTC:20250521T200000
DTSTAMP:20260424T073903
CREATED:20250508T145814Z
LAST-MODIFIED:20250508T145930Z
UID:10000186-1747850400-1747857600@anchorcovenant.org
SUMMARY:Dinner Party
DESCRIPTION:RSVP to Pete or Pat by 5/18
URL:https://anchorcovenant.org/event/dinner-party-3/
LOCATION:Ol’ Wisco\, 328 E Walworth Ave\, Delavan\, WI\, 53147\, United States
ATTACH;FMTTYPE=image/jpeg:https://anchorcovenant.org/wp-content/uploads/2025/05/49E262FB-49B7-493A-83FC-F20C0B6D6CF3.jpeg
END:VEVENT
END:VCALENDAR