BEGIN:VCALENDAR
VERSION:2.0
PRODID:-//Anchor Covenant Church - ECPv6.15.20//NONSGML v1.0//EN
CALSCALE:GREGORIAN
METHOD:PUBLISH
X-ORIGINAL-URL:https://anchorcovenant.org
X-WR-CALDESC:Events for Anchor Covenant Church
REFRESH-INTERVAL;VALUE=DURATION:PT1H
X-Robots-Tag:noindex
X-PUBLISHED-TTL:PT1H
BEGIN:VTIMEZONE
TZID:UTC
BEGIN:STANDARD
TZOFFSETFROM:+0000
TZOFFSETTO:+0000
TZNAME:UTC
DTSTART:20240101T000000
END:STANDARD
END:VTIMEZONE
BEGIN:VEVENT
DTSTART;TZID=UTC:20250503T170000
DTEND;TZID=UTC:20250503T220000
DTSTAMP:20260424T073905
CREATED:20250418T200046Z
LAST-MODIFIED:20250502T024411Z
UID:10000174-1746291600-1746309600@anchorcovenant.org
SUMMARY:Buoy HS Grand Finale
DESCRIPTION:Goodwill SupSup Mystery Vans:  Climb in a van\, get redressed at Goodwill\, and enjoy the mystery of not knowing what’s to come! \nBuoyHS May 3rd 5-10pm \n  \nRSVP by 4/23
URL:https://anchorcovenant.org/event/buoy-grand-finales/
LOCATION:Anchor Covenant Church\, 1229 Park Row\, Lake Geneva\, WI
ATTACH;FMTTYPE=image/png:https://anchorcovenant.org/wp-content/uploads/2025/04/IMG_9821.png
ORGANIZER;CN="Laura Gowan":MAILTO:laura.gowan@anchorcovenant.org
END:VEVENT
END:VCALENDAR