BEGIN:VCALENDAR
VERSION:2.0
PRODID:-//Anchor Covenant Church - ECPv6.15.20//NONSGML v1.0//EN
CALSCALE:GREGORIAN
METHOD:PUBLISH
X-ORIGINAL-URL:https://anchorcovenant.org
X-WR-CALDESC:Events for Anchor Covenant Church
REFRESH-INTERVAL;VALUE=DURATION:PT1H
X-Robots-Tag:noindex
X-PUBLISHED-TTL:PT1H
BEGIN:VTIMEZONE
TZID:UTC
BEGIN:STANDARD
TZOFFSETFROM:+0000
TZOFFSETTO:+0000
TZNAME:UTC
DTSTART:20230101T000000
END:STANDARD
END:VTIMEZONE
BEGIN:VEVENT
DTSTART;TZID=UTC:20241201T080000
DTEND;TZID=UTC:20250110T170000
DTSTAMP:20260424T131413
CREATED:20241126T032739Z
LAST-MODIFIED:20241126T032739Z
UID:10000161-1733040000-1736528400@anchorcovenant.org
SUMMARY:Compass Winter Camp Sign Up
DESCRIPTION:Sign up for Compass Winter Camp 2/14-2/15 \nCost $189 minus Anchor Student Gift $50 = $139 (this amount is less if you participated in the Timber Ridge Fundraiser on 11/18) \n 
URL:https://anchorcovenant.org/event/compass-winter-camp-sign-up/
LOCATION:Covenant Harbor\, 1724 W Main Street\, Lake Geneva\, WI\, 53147
ORGANIZER;CN="Jaclynne Fohr":MAILTO:childrensministry@anchorcovenant.org
END:VEVENT
BEGIN:VEVENT
DTSTART;TZID=UTC:20250105T160000
DTEND;TZID=UTC:20250105T173000
DTSTAMP:20260424T131413
CREATED:20241126T042442Z
LAST-MODIFIED:20241126T042442Z
UID:10000164-1736092800-1736098200@anchorcovenant.org
SUMMARY:Buoy68 Cereal and Game Night
DESCRIPTION:
URL:https://anchorcovenant.org/event/buoy68-cereal-and-game-night/
LOCATION:Covenant Harbor\, 1724 W Main Street\, Lake Geneva\, WI\, 53147
ORGANIZER;CN="Laura Gowan":MAILTO:laura.gowan@anchorcovenant.org
END:VEVENT
BEGIN:VEVENT
DTSTART;TZID=UTC:20250105T180000
DTEND;TZID=UTC:20250105T193000
DTSTAMP:20260424T131413
CREATED:20241126T042556Z
LAST-MODIFIED:20241126T042704Z
UID:10000165-1736100000-1736105400@anchorcovenant.org
SUMMARY:BuoyHS Cereal and Game Night
DESCRIPTION:
URL:https://anchorcovenant.org/event/buoyhs-cereal-and-game-night/
LOCATION:Covenant Harbor\, 1724 W Main Street\, Lake Geneva\, WI\, 53147
ORGANIZER;CN="Laura Gowan":MAILTO:laura.gowan@anchorcovenant.org
END:VEVENT
END:VCALENDAR