BEGIN:VCALENDAR
VERSION:2.0
PRODID:-//Anchor Covenant Church - ECPv6.15.20//NONSGML v1.0//EN
CALSCALE:GREGORIAN
METHOD:PUBLISH
X-WR-CALNAME:Anchor Covenant Church
X-ORIGINAL-URL:https://anchorcovenant.org
X-WR-CALDESC:Events for Anchor Covenant Church
REFRESH-INTERVAL;VALUE=DURATION:PT1H
X-Robots-Tag:noindex
X-PUBLISHED-TTL:PT1H
BEGIN:VTIMEZONE
TZID:UTC
BEGIN:STANDARD
TZOFFSETFROM:+0000
TZOFFSETTO:+0000
TZNAME:UTC
DTSTART:20230101T000000
END:STANDARD
END:VTIMEZONE
BEGIN:VEVENT
DTSTART;TZID=UTC:20241001T190000
DTEND;TZID=UTC:20241001T203000
DTSTAMP:20260424T174405
CREATED:20240912T185457Z
LAST-MODIFIED:20240912T185727Z
UID:10000142-1727809200-1727814600@anchorcovenant.org
SUMMARY:Monthly Intentions
DESCRIPTION:Are you ready to bring your dreams and hopes to life?  Join us for our Monthly Intentions Gathering\, where you’ll set powerful intentions for the month ahead in a relaxing and inspiring outdoor environment. \n  \nContact Cherith for details (262)745-6257
URL:https://anchorcovenant.org/event/monthly-intentions/
LOCATION:WI
END:VEVENT
END:VCALENDAR