BEGIN:VCALENDAR
VERSION:2.0
PRODID:-//Anchor Covenant Church - ECPv6.15.20//NONSGML v1.0//EN
CALSCALE:GREGORIAN
METHOD:PUBLISH
X-ORIGINAL-URL:https://anchorcovenant.org
X-WR-CALDESC:Events for Anchor Covenant Church
REFRESH-INTERVAL;VALUE=DURATION:PT1H
X-Robots-Tag:noindex
X-PUBLISHED-TTL:PT1H
BEGIN:VTIMEZONE
TZID:UTC
BEGIN:STANDARD
TZOFFSETFROM:+0000
TZOFFSETTO:+0000
TZNAME:UTC
DTSTART:20230101T000000
END:STANDARD
END:VTIMEZONE
BEGIN:VEVENT
DTSTART;TZID=UTC:20240421T093000
DTEND;TZID=UTC:20240421T101500
DTSTAMP:20260425T023411
CREATED:20240405T010239Z
LAST-MODIFIED:20240405T010239Z
UID:10000104-1713691800-1713694500@anchorcovenant.org
SUMMARY:Buoy A-Z
DESCRIPTION:
URL:https://anchorcovenant.org/event/buoy-a-z/
LOCATION:Badger Highschool
ORGANIZER;CN="Laura Gowan":MAILTO:laura.gowan@anchorcovenant.org
END:VEVENT
BEGIN:VEVENT
DTSTART;TZID=UTC:20240421T103000
DTEND;TZID=UTC:20240421T120000
DTSTAMP:20260425T023411
CREATED:20240408T192249Z
LAST-MODIFIED:20240408T192804Z
UID:10000108-1713695400-1713700800@anchorcovenant.org
SUMMARY:Confirmation Sunday
DESCRIPTION:
URL:https://anchorcovenant.org/event/confirmation-sunday/
LOCATION:Badger Highschool
END:VEVENT
BEGIN:VEVENT
DTSTART;TZID=UTC:20240421T160000
DTEND;TZID=UTC:20240421T173000
DTSTAMP:20260425T023411
CREATED:20240418T143259Z
LAST-MODIFIED:20240418T143259Z
UID:10000110-1713715200-1713720600@anchorcovenant.org
SUMMARY:Compass Fly-Up Event
DESCRIPTION:Drop-off at the JAC at 4pm
URL:https://anchorcovenant.org/event/compass-fly-up-event/
LOCATION:Covenant Harbor\, 1724 W Main Street\, Lake Geneva\, WI\, 53147
END:VEVENT
END:VCALENDAR