BEGIN:VCALENDAR
VERSION:2.0
PRODID:-//Anchor Covenant Church - ECPv6.15.20//NONSGML v1.0//EN
CALSCALE:GREGORIAN
METHOD:PUBLISH
X-WR-CALNAME:Anchor Covenant Church
X-ORIGINAL-URL:https://anchorcovenant.org
X-WR-CALDESC:Events for Anchor Covenant Church
REFRESH-INTERVAL;VALUE=DURATION:PT1H
X-Robots-Tag:noindex
X-PUBLISHED-TTL:PT1H
BEGIN:VTIMEZONE
TZID:UTC
BEGIN:STANDARD
TZOFFSETFROM:+0000
TZOFFSETTO:+0000
TZNAME:UTC
DTSTART:20230101T000000
END:STANDARD
END:VTIMEZONE
BEGIN:VEVENT
DTSTART;TZID=UTC:20240414T091500
DTEND;TZID=UTC:20240414T101500
DTSTAMP:20260425T023311
CREATED:20240405T010113Z
LAST-MODIFIED:20240405T010113Z
UID:10000103-1713086100-1713089700@anchorcovenant.org
SUMMARY:Buoy Grow A-Z
DESCRIPTION:
URL:https://anchorcovenant.org/event/buoy-grow-a-z-2/
LOCATION:Badger Highschool
ORGANIZER;CN="Laura Gowan":MAILTO:laura.gowan@anchorcovenant.org
END:VEVENT
BEGIN:VEVENT
DTSTART;TZID=UTC:20240414T100000
DTEND;TZID=UTC:20240414T110000
DTSTAMP:20260425T023311
CREATED:20240405T010545Z
LAST-MODIFIED:20240405T010545Z
UID:10000106-1713088800-1713092400@anchorcovenant.org
SUMMARY:Unite Dessert Fundraiser
DESCRIPTION:
URL:https://anchorcovenant.org/event/unite-dessert-fundraiser/
LOCATION:Badger Highschool
ORGANIZER;CN="Laura Gowan":MAILTO:laura.gowan@anchorcovenant.org
END:VEVENT
END:VCALENDAR