BEGIN:VCALENDAR
VERSION:2.0
PRODID:-//Anchor Covenant Church - ECPv6.15.20//NONSGML v1.0//EN
CALSCALE:GREGORIAN
METHOD:PUBLISH
X-ORIGINAL-URL:https://anchorcovenant.org
X-WR-CALDESC:Events for Anchor Covenant Church
REFRESH-INTERVAL;VALUE=DURATION:PT1H
X-Robots-Tag:noindex
X-PUBLISHED-TTL:PT1H
BEGIN:VTIMEZONE
TZID:UTC
BEGIN:STANDARD
TZOFFSETFROM:+0000
TZOFFSETTO:+0000
TZNAME:UTC
DTSTART:20230101T000000
END:STANDARD
END:VTIMEZONE
BEGIN:VEVENT
DTSTART;TZID=UTC:20240317T073000
DTEND;TZID=UTC:20240317T140000
DTSTAMP:20260425T035033
CREATED:20240215T140946Z
LAST-MODIFIED:20240215T141028Z
UID:10000096-1710660600-1710684000@anchorcovenant.org
SUMMARY:Maple Fest
DESCRIPTION:It’s time for Maple Fest\nYou are invited to join us for Maple Fest 2024! Starting at 7:30 a.m. and continuing until 2:00 p.m.\, Maple Fest will include the classic pancake breakfast\, a outdoor market featuring local businesses and classic camp family friendly activities. Come for the perfect pancake-filled day and to get to know a bit of who we are. We would love to meet you!
URL:https://anchorcovenant.org/event/maple-fest/
LOCATION:Covenant Harbor\, 1724 W Main Street\, Lake Geneva\, WI\, 53147
END:VEVENT
END:VCALENDAR