BEGIN:VCALENDAR
VERSION:2.0
PRODID:-//Anchor Covenant Church - ECPv6.15.20//NONSGML v1.0//EN
CALSCALE:GREGORIAN
METHOD:PUBLISH
X-ORIGINAL-URL:https://anchorcovenant.org
X-WR-CALDESC:Events for Anchor Covenant Church
REFRESH-INTERVAL;VALUE=DURATION:PT1H
X-Robots-Tag:noindex
X-PUBLISHED-TTL:PT1H
BEGIN:VTIMEZONE
TZID:UTC
BEGIN:STANDARD
TZOFFSETFROM:+0000
TZOFFSETTO:+0000
TZNAME:UTC
DTSTART:20220101T000000
END:STANDARD
END:VTIMEZONE
BEGIN:VEVENT
DTSTART;VALUE=DATE:20231103
DTEND;VALUE=DATE:20231106
DTSTAMP:20260425T102942
CREATED:20230818T200740Z
LAST-MODIFIED:20230818T200740Z
UID:10000058-1698969600-1699228799@anchorcovenant.org
SUMMARY:BuoyHS Village Retreat
DESCRIPTION:
URL:https://anchorcovenant.org/event/buoyhs-village-retreat/
LOCATION:Covenant Harbor\, 1724 W Main Street\, Lake Geneva\, WI\, 53147
ORGANIZER;CN="Laura Gowan":MAILTO:laura.gowan@anchorcovenant.org
END:VEVENT
END:VCALENDAR