BEGIN:VCALENDAR
VERSION:2.0
PRODID:-//Anchor Covenant Church - ECPv6.15.20//NONSGML v1.0//EN
CALSCALE:GREGORIAN
METHOD:PUBLISH
X-ORIGINAL-URL:https://anchorcovenant.org
X-WR-CALDESC:Events for Anchor Covenant Church
REFRESH-INTERVAL;VALUE=DURATION:PT1H
X-Robots-Tag:noindex
X-PUBLISHED-TTL:PT1H
BEGIN:VTIMEZONE
TZID:UTC
BEGIN:STANDARD
TZOFFSETFROM:+0000
TZOFFSETTO:+0000
TZNAME:UTC
DTSTART:20220101T000000
END:STANDARD
END:VTIMEZONE
BEGIN:VEVENT
DTSTART;VALUE=DATE:20231029
DTEND;VALUE=DATE:20231030
DTSTAMP:20260425T102927
CREATED:20230818T192341Z
LAST-MODIFIED:20230818T192341Z
UID:10000027-1698537600-1698623999@anchorcovenant.org
SUMMARY:No Buoy68 or HS
DESCRIPTION:
URL:https://anchorcovenant.org/event/no-buoy68-or-hs/
LOCATION:WI
END:VEVENT
BEGIN:VEVENT
DTSTART;VALUE=DATE:20231029
DTEND;VALUE=DATE:20231030
DTSTAMP:20260425T102927
CREATED:20231005T185745Z
LAST-MODIFIED:20231005T185745Z
UID:10000066-1698537600-1698623999@anchorcovenant.org
SUMMARY:Thanksgiving Food Drive
DESCRIPTION:
URL:https://anchorcovenant.org/event/thanksgiving-food-drive-3/
LOCATION:Anchor Covenant Church\, 1229 Park Row\, Lake Geneva\, WI
END:VEVENT
END:VCALENDAR