BEGIN:VCALENDAR
VERSION:2.0
PRODID:-//Anchor Covenant Church - ECPv6.15.20//NONSGML v1.0//EN
CALSCALE:GREGORIAN
METHOD:PUBLISH
X-WR-CALNAME:Anchor Covenant Church
X-ORIGINAL-URL:https://anchorcovenant.org
X-WR-CALDESC:Events for Anchor Covenant Church
REFRESH-INTERVAL;VALUE=DURATION:PT1H
X-Robots-Tag:noindex
X-PUBLISHED-TTL:PT1H
BEGIN:VTIMEZONE
TZID:UTC
BEGIN:STANDARD
TZOFFSETFROM:+0000
TZOFFSETTO:+0000
TZNAME:UTC
DTSTART:20220101T000000
END:STANDARD
END:VTIMEZONE
BEGIN:VEVENT
DTSTART;VALUE=DATE:20231015
DTEND;VALUE=DATE:20231016
DTSTAMP:20260425T115343
CREATED:20231005T185627Z
LAST-MODIFIED:20231005T185627Z
UID:10000064-1697328000-1697414399@anchorcovenant.org
SUMMARY:Thanksgiving Food Drive
DESCRIPTION:
URL:https://anchorcovenant.org/event/thanksgiving-food-drive/
LOCATION:Anchor Covenant Church\, 1229 Park Row\, Lake Geneva\, WI
END:VEVENT
BEGIN:VEVENT
DTSTART;TZID=UTC:20231015T113000
DTEND;TZID=UTC:20231015T120000
DTSTAMP:20260425T115343
CREATED:20230928T171539Z
LAST-MODIFIED:20231005T185857Z
UID:10000061-1697369400-1697371200@anchorcovenant.org
SUMMARY:Alaska Mission Trip Meeting
DESCRIPTION:
URL:https://anchorcovenant.org/event/alaska-mission-trip-meeting/
LOCATION:Anchor Covenant Church\, 1229 Park Row\, Lake Geneva\, WI
END:VEVENT
BEGIN:VEVENT
DTSTART;TZID=UTC:20231015T160000
DTEND;TZID=UTC:20231015T173000
DTSTAMP:20260425T115343
CREATED:20230818T193300Z
LAST-MODIFIED:20230818T193300Z
UID:10000032-1697385600-1697391000@anchorcovenant.org
SUMMARY:Buoy68
DESCRIPTION:
URL:https://anchorcovenant.org/event/buoy68-3/
LOCATION:Anchor Covenant Church\, 1229 Park Row\, Lake Geneva\, WI
ORGANIZER;CN="Laura Gowan":MAILTO:laura.gowan@anchorcovenant.org
END:VEVENT
BEGIN:VEVENT
DTSTART;TZID=UTC:20231015T173000
DTEND;TZID=UTC:20231015T181500
DTSTAMP:20260425T115343
CREATED:20230818T195829Z
LAST-MODIFIED:20230818T195829Z
UID:10000051-1697391000-1697393700@anchorcovenant.org
SUMMARY:Confirmation
DESCRIPTION:
URL:https://anchorcovenant.org/event/confirmation-3/
LOCATION:Anchor Covenant Church\, 1229 Park Row\, Lake Geneva\, WI
END:VEVENT
BEGIN:VEVENT
DTSTART;TZID=UTC:20231015T180000
DTEND;TZID=UTC:20231015T193000
DTSTAMP:20260425T115343
CREATED:20230818T194200Z
LAST-MODIFIED:20230818T194200Z
UID:10000040-1697392800-1697398200@anchorcovenant.org
SUMMARY:BuoyHS
DESCRIPTION:
URL:https://anchorcovenant.org/event/buoyhs-3/
LOCATION:Anchor Covenant Church\, 1229 Park Row\, Lake Geneva\, WI
ORGANIZER;CN="Laura Gowan":MAILTO:laura.gowan@anchorcovenant.org
END:VEVENT
END:VCALENDAR