BEGIN:VCALENDAR
VERSION:2.0
PRODID:-//Anchor Covenant Church - ECPv6.15.20//NONSGML v1.0//EN
CALSCALE:GREGORIAN
METHOD:PUBLISH
X-WR-CALNAME:Anchor Covenant Church
X-ORIGINAL-URL:https://anchorcovenant.org
X-WR-CALDESC:Events for Anchor Covenant Church
REFRESH-INTERVAL;VALUE=DURATION:PT1H
X-Robots-Tag:noindex
X-PUBLISHED-TTL:PT1H
BEGIN:VTIMEZONE
TZID:UTC
BEGIN:STANDARD
TZOFFSETFROM:+0000
TZOFFSETTO:+0000
TZNAME:UTC
DTSTART:20220101T000000
END:STANDARD
END:VTIMEZONE
BEGIN:VEVENT
DTSTART;TZID=UTC:20230924T160000
DTEND;TZID=UTC:20230924T173000
DTSTAMP:20260425T132529
CREATED:20230818T193155Z
LAST-MODIFIED:20230818T193155Z
UID:10000031-1695571200-1695576600@anchorcovenant.org
SUMMARY:Buoy68
DESCRIPTION:
URL:https://anchorcovenant.org/event/buoy68-2/
LOCATION:Anchor Covenant Church\, 1229 Park Row\, Lake Geneva\, WI
ORGANIZER;CN="Laura Gowan":MAILTO:laura.gowan@anchorcovenant.org
END:VEVENT
BEGIN:VEVENT
DTSTART;TZID=UTC:20230924T173000
DTEND;TZID=UTC:20230924T181500
DTSTAMP:20260425T132529
CREATED:20230818T195704Z
LAST-MODIFIED:20230818T195704Z
UID:10000050-1695576600-1695579300@anchorcovenant.org
SUMMARY:Confirmation
DESCRIPTION:
URL:https://anchorcovenant.org/event/confirmation-2/
LOCATION:Anchor Covenant Church\, 1229 Park Row\, Lake Geneva\, WI
END:VEVENT
END:VCALENDAR