BEGIN:VCALENDAR
VERSION:2.0
PRODID:-//Anchor Covenant Church - ECPv6.15.20//NONSGML v1.0//EN
CALSCALE:GREGORIAN
METHOD:PUBLISH
X-WR-CALNAME:Anchor Covenant Church
X-ORIGINAL-URL:https://anchorcovenant.org
X-WR-CALDESC:Events for Anchor Covenant Church
REFRESH-INTERVAL;VALUE=DURATION:PT1H
X-Robots-Tag:noindex
X-PUBLISHED-TTL:PT1H
BEGIN:VTIMEZONE
TZID:UTC
BEGIN:STANDARD
TZOFFSETFROM:+0000
TZOFFSETTO:+0000
TZNAME:UTC
DTSTART:20220101T000000
END:STANDARD
END:VTIMEZONE
BEGIN:VEVENT
DTSTART;TZID=UTC:20230910T101500
DTEND;TZID=UTC:20230910T113000
DTSTAMP:20260425T132530
CREATED:20230810T162020Z
LAST-MODIFIED:20230823T023242Z
UID:10000019-1694340900-1694345400@anchorcovenant.org
SUMMARY:Fall Kick-Off
DESCRIPTION:10:15: GROW open house\n10:30: Worship Service\nIntro to Discover: Diving into the depths of The Story\nBibles & Blessings\n11:30: Ministry Fair\nPopcorn bar\nCome to find out what ministries are offered at Anchor
URL:https://anchorcovenant.org/event/fall-kick-off-3/
LOCATION:Anchor Covenant Church\, 1229 Park Row\, Lake Geneva\, WI
END:VEVENT
BEGIN:VEVENT
DTSTART;TZID=UTC:20230910T160000
DTEND;TZID=UTC:20230910T173000
DTSTAMP:20260425T132530
CREATED:20230818T184943Z
LAST-MODIFIED:20230823T020640Z
UID:10000022-1694361600-1694367000@anchorcovenant.org
SUMMARY:Buoy68 Park & Pizza Kick-off
DESCRIPTION:
URL:https://anchorcovenant.org/event/park-pizza-kick-off/
LOCATION:WI
END:VEVENT
BEGIN:VEVENT
DTSTART;TZID=UTC:20230910T180000
DTEND;TZID=UTC:20230910T193000
DTSTAMP:20260425T132530
CREATED:20230818T185055Z
LAST-MODIFIED:20230823T021804Z
UID:10000023-1694368800-1694374200@anchorcovenant.org
SUMMARY:BuoyHS Park & Pizza Kick-off
DESCRIPTION:
URL:https://anchorcovenant.org/event/buoyhs-park-pizza-kick-off/
LOCATION:WI
END:VEVENT
END:VCALENDAR